BEGIN:VCALENDAR
VERSION:2.0
PRODID:-//SAVETCON - ECPv6.14.2//NONSGML v1.0//EN
CALSCALE:GREGORIAN
METHOD:PUBLISH
X-ORIGINAL-URL:https://savetcon.co.za
X-WR-CALDESC:Events for SAVETCON
REFRESH-INTERVAL;VALUE=DURATION:PT1H
X-Robots-Tag:noindex
X-PUBLISHED-TTL:PT1H
BEGIN:VTIMEZONE
TZID:Europe/Helsinki
BEGIN:DAYLIGHT
TZOFFSETFROM:+0200
TZOFFSETTO:+0300
TZNAME:EEST
DTSTART:20240331T010000
END:DAYLIGHT
BEGIN:STANDARD
TZOFFSETFROM:+0300
TZOFFSETTO:+0200
TZNAME:EET
DTSTART:20241027T010000
END:STANDARD
END:VTIMEZONE
BEGIN:VEVENT
DTSTART;TZID=Europe/Helsinki:20240516T180000
DTEND;TZID=Europe/Helsinki:20240516T200000
DTSTAMP:20260421T185728
CREATED:20240430T120304Z
LAST-MODIFIED:20240430T122536Z
UID:10000034-1715882400-1715889600@savetcon.co.za
SUMMARY:Mpumalanga CPD Evening
DESCRIPTION:
URL:https://savetcon.co.za/event/mpumalanga-cpd-evening/
LOCATION:Protea Hotel Nelspruit\, 30 Jerepico St\, Orchards\, Mbombela\, Mpumalanaga\, South Africa
ORGANIZER;CN="SAVETCON":MAILTO:corne@savetcon.co.za
END:VEVENT
END:VCALENDAR