BEGIN:VCALENDAR
VERSION:2.0
PRODID:-//SAVETCON - ECPv6.14.2//NONSGML v1.0//EN
CALSCALE:GREGORIAN
METHOD:PUBLISH
X-WR-CALNAME:SAVETCON
X-ORIGINAL-URL:https://savetcon.co.za
X-WR-CALDESC:Events for SAVETCON
REFRESH-INTERVAL;VALUE=DURATION:PT1H
X-Robots-Tag:noindex
X-PUBLISHED-TTL:PT1H
BEGIN:VTIMEZONE
TZID:Europe/Helsinki
BEGIN:DAYLIGHT
TZOFFSETFROM:+0200
TZOFFSETTO:+0300
TZNAME:EEST
DTSTART:20240331T010000
END:DAYLIGHT
BEGIN:STANDARD
TZOFFSETFROM:+0300
TZOFFSETTO:+0200
TZNAME:EET
DTSTART:20241027T010000
END:STANDARD
END:VTIMEZONE
BEGIN:VEVENT
DTSTART;VALUE=DATE:20240809
DTEND;VALUE=DATE:20240810
DTSTAMP:20260421T172050
CREATED:20240109T064659Z
LAST-MODIFIED:20240520T085802Z
UID:10000028-1723161600-1723247999@savetcon.co.za
SUMMARY:WOMEN'S DAY
DESCRIPTION:
URL:https://savetcon.co.za/event/womens-day/
END:VEVENT
BEGIN:VEVENT
DTSTART;TZID=Europe/Helsinki:20240809T080000
DTEND;TZID=Europe/Helsinki:20240811T170000
DTSTAMP:20260421T172050
CREATED:20240109T064342Z
LAST-MODIFIED:20240725T065338Z
UID:10000021-1723190400-1723395600@savetcon.co.za
SUMMARY:SAVA Oranje Vaal Branch CPD Weekend - POSTPONED TO 2025
DESCRIPTION:
URL:https://savetcon.co.za/event/sava-oranje-vaal-branch-cpd-weekend/
END:VEVENT
BEGIN:VEVENT
DTSTART;TZID=Europe/Helsinki:20240815T193000
DTEND;TZID=Europe/Helsinki:20240815T210000
DTSTAMP:20260421T172050
CREATED:20240806T091112Z
LAST-MODIFIED:20240806T091113Z
UID:10000046-1723750200-1723755600@savetcon.co.za
SUMMARY:Webinar: The latest step by step diagnostic approach to the pruritic pet
DESCRIPTION:A pruritic pet is one of the most common reasons for a client to seek veterinary care\, however\, can sometimes prove to be a diagnostic headache. Join us as we work through a step-by-step approach to diagnose and manage the most common pruritic diseases in dogs and cats. \nAgenda\n\n\n\n19h30 – Welcome\n19h33 – Hill’s Snippet\n19h40 – The latest step by step diagnostic approach to the pruritic pet\n20h40 – Questions and Answers\n20h50 – Close of Webinar\n\nAbout our Speaker \nDr Louis Loubser\nBVSc\, Resident: Small Animal Internal Medicine\nAfter graduating from Onderstepoort in 2018\, Louis completed his CCS year in Standerton\, Mpumalanga. In 2020\, he joined the team at Panorama Veterinary Clinic as a general practitioner where he developed a keen interest in small animal internal medicine. Driven by his passion for problem solving and love of medicine\, Louis embarked on an internal medicine residency in 2022. Dr Loubser is currently completing the final year of his medicine residency. Together with his wife\, who is also a veterinarian\, and their Golden Retriever\, they enjoy outdoor activities such as hiking and spending time at the beach.
URL:https://savetcon.co.za/event/webinar-the-latest-step-by-step-diagnostic-approach-to-the-pruritic-pet/
LOCATION:BigMarker
ORGANIZER;CN="SAVETCON":MAILTO:corne@savetcon.co.za
END:VEVENT
END:VCALENDAR