BEGIN:VCALENDAR
VERSION:2.0
PRODID:-//SAVETCON - ECPv6.14.2//NONSGML v1.0//EN
CALSCALE:GREGORIAN
METHOD:PUBLISH
X-ORIGINAL-URL:https://savetcon.co.za
X-WR-CALDESC:Events for SAVETCON
REFRESH-INTERVAL;VALUE=DURATION:PT1H
X-Robots-Tag:noindex
X-PUBLISHED-TTL:PT1H
BEGIN:VTIMEZONE
TZID:Europe/Helsinki
BEGIN:DAYLIGHT
TZOFFSETFROM:+0200
TZOFFSETTO:+0300
TZNAME:EEST
DTSTART:20250330T010000
END:DAYLIGHT
BEGIN:STANDARD
TZOFFSETFROM:+0300
TZOFFSETTO:+0200
TZNAME:EET
DTSTART:20251026T010000
END:STANDARD
END:VTIMEZONE
BEGIN:VEVENT
DTSTART;TZID=Europe/Helsinki:20250618T120000
DTEND;TZID=Europe/Helsinki:20250618T130000
DTSTAMP:20260423T004603
CREATED:20250508T200551Z
LAST-MODIFIED:20250508T200551Z
UID:10000066-1750248000-1750251600@savetcon.co.za
SUMMARY:Webinar: Zoonoses control and the “One Health” moral dilemma (Prof. Oriel Thekisoe)
DESCRIPTION:In lead-up to the 5th International Congress on Parasites of Wildlife you are invited to attend \nWebinars on Parasites & Pathogens \nHosted by the \nInternational Congress on Parasites of Wildlife and the Parasitological Society of Southern Africa \nWebinars will be presented “live” once per month at midday (12:00 – 13:00 SAST (UTC+2)) \n— \nhttps://savetcon.co.za/icpow2025/
URL:https://savetcon.co.za/event/webinar-zoonoses-control-and-the-one-health-moral-dilemma-prof-oriel-thekisoe/
LOCATION:Livestorm (online)
ORGANIZER;CN="SAVETCON":MAILTO:corne@savetcon.co.za
END:VEVENT
END:VCALENDAR