BEGIN:VCALENDAR
VERSION:2.0
PRODID:-//SAVETCON - ECPv6.14.2//NONSGML v1.0//EN
CALSCALE:GREGORIAN
METHOD:PUBLISH
X-WR-CALNAME:SAVETCON
X-ORIGINAL-URL:https://savetcon.co.za
X-WR-CALDESC:Events for SAVETCON
REFRESH-INTERVAL;VALUE=DURATION:PT1H
X-Robots-Tag:noindex
X-PUBLISHED-TTL:PT1H
BEGIN:VTIMEZONE
TZID:Europe/Helsinki
BEGIN:DAYLIGHT
TZOFFSETFROM:+0200
TZOFFSETTO:+0300
TZNAME:EEST
DTSTART:20250330T010000
END:DAYLIGHT
BEGIN:STANDARD
TZOFFSETFROM:+0300
TZOFFSETTO:+0200
TZNAME:EET
DTSTART:20251026T010000
END:STANDARD
END:VTIMEZONE
BEGIN:VEVENT
DTSTART;TZID=Europe/Helsinki:20250411T120000
DTEND;TZID=Europe/Helsinki:20250412T160000
DTSTAMP:20260422T213820
CREATED:20241024T085419Z
LAST-MODIFIED:20250116T113232Z
UID:10000053-1744372800-1744473600@savetcon.co.za
SUMMARY:SAVA Oranje-Vaal Branch Congress 2025
DESCRIPTION:
URL:https://savetcon.co.za/event/https-savetcon-co-za-2025-sava-ovb-congress/
LOCATION:Khaya Ibhubesi Conference Centre\, 12 Kopjeskraal Rd\, Die Eiland\, Parys\, Free State\, 9588\, South Africa
ORGANIZER;CN="SAVETCON":MAILTO:corne@savetcon.co.za
END:VEVENT
BEGIN:VEVENT
DTSTART;TZID=Europe/Helsinki:20250411T193000
DTEND;TZID=Europe/Helsinki:20250411T210000
DTSTAMP:20260422T213821
CREATED:20250203T100440Z
LAST-MODIFIED:20250203T100440Z
UID:10000063-1744399800-1744405200@savetcon.co.za
SUMMARY:Webinar: Understanding & minimizing stress in cats at the Veterinary Hospital
DESCRIPTION:Dr Natalie Marks  DVM\, CVJ \nDr Marks has empowered the veterinary industry with over twenty years of unparalleled and diverse experience. Her career spans a variety of positions\, including being an associate veterinarian\, medical director\, co-owner of the largest small animal practice in Chicago\, mentor\, educational consultant\, media personality\, entrepreneur\, and angel investor. Her continued goals include empowering veterinary professionals and pet parents alike to be as educated and involved as possible in the care of our patients and family members. Dr. Marks is passionate about tackling the ongoing need for improved physical and emotional health among industry colleagues.
URL:https://savetcon.co.za/event/webinar-understanding-minimizing-stress-in-cats-at-the-veterinary-hospital/
LOCATION:Livestorm (online)
ORGANIZER;CN="SAVETCON":MAILTO:corne@savetcon.co.za
END:VEVENT
END:VCALENDAR