BEGIN:VCALENDAR
VERSION:2.0
PRODID:-//SAVETCON - ECPv6.14.2//NONSGML v1.0//EN
CALSCALE:GREGORIAN
METHOD:PUBLISH
X-WR-CALNAME:SAVETCON
X-ORIGINAL-URL:https://savetcon.co.za
X-WR-CALDESC:Events for SAVETCON
REFRESH-INTERVAL;VALUE=DURATION:PT1H
X-Robots-Tag:noindex
X-PUBLISHED-TTL:PT1H
BEGIN:VTIMEZONE
TZID:Europe/Helsinki
BEGIN:DAYLIGHT
TZOFFSETFROM:+0200
TZOFFSETTO:+0300
TZNAME:EEST
DTSTART:20240331T010000
END:DAYLIGHT
BEGIN:STANDARD
TZOFFSETFROM:+0300
TZOFFSETTO:+0200
TZNAME:EET
DTSTART:20241027T010000
END:STANDARD
END:VTIMEZONE
BEGIN:VEVENT
DTSTART;TZID=Europe/Helsinki:20241119T193000
DTEND;TZID=Europe/Helsinki:20241119T210000
DTSTAMP:20260422T095415
CREATED:20241022T085146Z
LAST-MODIFIED:20241104T113451Z
UID:10000051-1732044600-1732050000@savetcon.co.za
SUMMARY:Webinar: SAVP antivenom shortage and alternative Antivenom for South Africa
DESCRIPTION:Mike Perry became interested in snakes in 1963 and two years later at the age of 10 he started catching snakes. Out of curiosity\, he accomplished his first milking of a Rinkhals (Hemachatus haemachatus). In 1967 and during 1970 he milked and supplied 15 grams Rinkhals (Hemachatus haemachatus) venom for a local snake park that received an order from Germany. Although Mike’s main interest is venomous snakes with a particular interest in Mambas\, he also has an interest in other snakes\, lizards\, crocodiles\, tortoises and frogs. Mike has also investigated and has extensive experience in crocodile farming. Mike is involved in local herpetological associations to promote and maintain contact and goodwill between conservation authorities and amateur herpetologists. The need for this arose when during 1983 the first legislation was introduced in the (then) Transvaal province of South Africa\, to protect reptiles. \nSponsored by Biofarm
URL:https://savetcon.co.za/event/webinar-snakebites-in-domestic-animals/
LOCATION:Livestorm (online)
ORGANIZER;CN="SAVETCON":MAILTO:corne@savetcon.co.za
END:VEVENT
END:VCALENDAR