BEGIN:VCALENDAR
VERSION:2.0
PRODID:-//SAVETCON - ECPv6.14.2//NONSGML v1.0//EN
CALSCALE:GREGORIAN
METHOD:PUBLISH
X-ORIGINAL-URL:https://savetcon.co.za
X-WR-CALDESC:Events for SAVETCON
REFRESH-INTERVAL;VALUE=DURATION:PT1H
X-Robots-Tag:noindex
X-PUBLISHED-TTL:PT1H
BEGIN:VTIMEZONE
TZID:Europe/Helsinki
BEGIN:DAYLIGHT
TZOFFSETFROM:+0200
TZOFFSETTO:+0300
TZNAME:EEST
DTSTART:20240331T010000
END:DAYLIGHT
BEGIN:STANDARD
TZOFFSETFROM:+0300
TZOFFSETTO:+0200
TZNAME:EET
DTSTART:20241027T010000
END:STANDARD
END:VTIMEZONE
BEGIN:VEVENT
DTSTART;TZID=Europe/Helsinki:20241114T193000
DTEND;TZID=Europe/Helsinki:20241114T203000
DTSTAMP:20260422T064427
CREATED:20241022T092610Z
LAST-MODIFIED:20241022T092610Z
UID:10000052-1731612600-1731616200@savetcon.co.za
SUMMARY:Webinar: The secret of success to staying strong in the silly season
DESCRIPTION:About our speaker \nDesiré Rees \nBachelor of Arts in Psychology & Communication | Seta Accredited Facilitator | Certified Personal Coach with International Coaching Federation (ICF) | Transactional Analysis certified \nDesiré has been involved in transformational and people development work within the Veterinary Profession for the past 18 years. Providing a safe\, empowering space from which Professionals can learn the soft-science skills they need to handle people better. Desiré provides Coaching services from Preventative Self-care right through to Crisis Intervention. As well as training practice teams on Conflict Management and all spheres of Team dynamics. \nSponsored by
URL:https://savetcon.co.za/event/webinar-the-secret-of-success-to-staying-strong-in-the-silly-season/
LOCATION:Livestorm (online)
END:VEVENT
END:VCALENDAR