BEGIN:VCALENDAR
VERSION:2.0
PRODID:-//SAVETCON - ECPv6.14.2//NONSGML v1.0//EN
CALSCALE:GREGORIAN
METHOD:PUBLISH
X-ORIGINAL-URL:https://savetcon.co.za
X-WR-CALDESC:Events for SAVETCON
REFRESH-INTERVAL;VALUE=DURATION:PT1H
X-Robots-Tag:noindex
X-PUBLISHED-TTL:PT1H
BEGIN:VTIMEZONE
TZID:Europe/Helsinki
BEGIN:DAYLIGHT
TZOFFSETFROM:+0200
TZOFFSETTO:+0300
TZNAME:EEST
DTSTART:20240331T010000
END:DAYLIGHT
BEGIN:STANDARD
TZOFFSETFROM:+0300
TZOFFSETTO:+0200
TZNAME:EET
DTSTART:20241027T010000
END:STANDARD
END:VTIMEZONE
BEGIN:VEVENT
DTSTART;TZID=Europe/Helsinki:20241023T123000
DTEND;TZID=Europe/Helsinki:20241023T133000
DTSTAMP:20260421T214842
CREATED:20241011T093113Z
LAST-MODIFIED:20241011T093113Z
UID:10000049-1729686600-1729690200@savetcon.co.za
SUMMARY:Webinar: EP4 antagonist - An important tool in managing chronic OA pain & inflammation in our patients
DESCRIPTION:Dr Kenneth Joubert will be presenting on: EP4 antagonist – An important tool in managing chronic OA pain & inflammation in our patients. \nYou can register for either Session 1 at 12h30 or Session 2 at 19h30. Click on the date and time block at the top of the page to choose your timeslot. \nStay until the end of each webinar and stand a chance to win a Littman Classic Stethoscope!
URL:https://savetcon.co.za/event/webinar-ep4-antagonist-an-important-tool-in-managing-chronic-oa-pain-inflammation-in-our-patients/2024-10-23/1/
LOCATION:Livestorm (online)
ORGANIZER;CN="SAVETCON":MAILTO:corne@savetcon.co.za
END:VEVENT
BEGIN:VEVENT
DTSTART;TZID=Europe/Helsinki:20241023T193000
DTEND;TZID=Europe/Helsinki:20241023T203000
DTSTAMP:20260421T214842
CREATED:20241011T093113Z
LAST-MODIFIED:20241011T093113Z
UID:10000050-1729711800-1729715400@savetcon.co.za
SUMMARY:Webinar: EP4 antagonist - An important tool in managing chronic OA pain & inflammation in our patients
DESCRIPTION:Dr Kenneth Joubert will be presenting on: EP4 antagonist – An important tool in managing chronic OA pain & inflammation in our patients. \nYou can register for either Session 1 at 12h30 or Session 2 at 19h30. Click on the date and time block at the top of the page to choose your timeslot. \nStay until the end of each webinar and stand a chance to win a Littman Classic Stethoscope!
URL:https://savetcon.co.za/event/webinar-ep4-antagonist-an-important-tool-in-managing-chronic-oa-pain-inflammation-in-our-patients/2024-10-23/2/
LOCATION:Livestorm (online)
ORGANIZER;CN="SAVETCON":MAILTO:corne@savetcon.co.za
END:VEVENT
END:VCALENDAR