BEGIN:VCALENDAR
VERSION:2.0
PRODID:-//SAVETCON - ECPv6.14.2//NONSGML v1.0//EN
CALSCALE:GREGORIAN
METHOD:PUBLISH
X-WR-CALNAME:SAVETCON
X-ORIGINAL-URL:https://savetcon.co.za
X-WR-CALDESC:Events for SAVETCON
REFRESH-INTERVAL;VALUE=DURATION:PT1H
X-Robots-Tag:noindex
X-PUBLISHED-TTL:PT1H
BEGIN:VTIMEZONE
TZID:Europe/Helsinki
BEGIN:DAYLIGHT
TZOFFSETFROM:+0200
TZOFFSETTO:+0300
TZNAME:EEST
DTSTART:20240331T010000
END:DAYLIGHT
BEGIN:STANDARD
TZOFFSETFROM:+0300
TZOFFSETTO:+0200
TZNAME:EET
DTSTART:20241027T010000
END:STANDARD
END:VTIMEZONE
BEGIN:VEVENT
DTSTART;TZID=Europe/Helsinki:20240917T193000
DTEND;TZID=Europe/Helsinki:20240917T210000
DTSTAMP:20260421T202200
CREATED:20240806T114121Z
LAST-MODIFIED:20240827T125511Z
UID:10000048-1726601400-1726606800@savetcon.co.za
SUMMARY:Webinar: Puppy Pruritus – Stopping the itch early!
DESCRIPTION:Nutrition is important in the management of allergic skin diseases\, such as atopic dermatitis and food allergies. When these conditions are diagnosed in puppies\, it is essential that the food selected to help manage their skin condition provides all the key nutrients necessary for optimal growth and development.  We will discuss the frequency that these conditions are seen in puppies and how nutrition can support both skin health and growth. \nDuring this webinar we’ll also be launching an exciting new product in the Prescription Diet Derm range\, so please join us to hear all about it! \nAbout our speaker \nDr Becky Mills \nDr Becky Mullis is a Board Certified Veterinary Nutritionist in the American College of Veterinary Internal Medicine.  She received her BS in Animal Science from the University of Maryland and her DVM from the University of Tennessee.  After graduation\, she completed a private practice rotating internship and worked as an emergency veterinarian.  After a few years\, she returned to the University of Tennessee where she completed a residency in clinical nutrition.  Dr Mullis is currently Senior Manager Scientific Affairs with Hill’s Pet Nutrition.
URL:https://savetcon.co.za/event/webinar-hills-launch/
LOCATION:Livestorm (online)
ORGANIZER;CN="SAVETCON":MAILTO:corne@savetcon.co.za
END:VEVENT
END:VCALENDAR