BEGIN:VCALENDAR
VERSION:2.0
PRODID:-//SAVETCON - ECPv6.14.2//NONSGML v1.0//EN
CALSCALE:GREGORIAN
METHOD:PUBLISH
X-ORIGINAL-URL:https://savetcon.co.za
X-WR-CALDESC:Events for SAVETCON
REFRESH-INTERVAL;VALUE=DURATION:PT1H
X-Robots-Tag:noindex
X-PUBLISHED-TTL:PT1H
BEGIN:VTIMEZONE
TZID:Europe/Helsinki
BEGIN:DAYLIGHT
TZOFFSETFROM:+0200
TZOFFSETTO:+0300
TZNAME:EEST
DTSTART:20240331T010000
END:DAYLIGHT
BEGIN:STANDARD
TZOFFSETFROM:+0300
TZOFFSETTO:+0200
TZNAME:EET
DTSTART:20241027T010000
END:STANDARD
END:VTIMEZONE
BEGIN:VEVENT
DTSTART;TZID=Europe/Helsinki:20240912T193000
DTEND;TZID=Europe/Helsinki:20240912T210000
DTSTAMP:20260421T202434
CREATED:20240806T092154Z
LAST-MODIFIED:20240820T160822Z
UID:10000047-1726169400-1726174800@savetcon.co.za
SUMMARY:Webinar: Fostering Client Growth & Loyalty - strategies for effective marketing
DESCRIPTION:During this session we will take a deep dive into the art of cultivating a thriving client base through strategic marketing techniques. \nExplore innovative approaches to attract new customers while nurturing existing relationships for enduring loyalty. Through engaging case studies and actionable insights\, you’ll learn how to craft compelling messaging\, personalize interactions\, and create memorable experiences that resonate with your audience. \nUncover the secrets of building a brand that customers can’t help but advocate for. This session equips you with the tools to elevate your marketing strategies\, fostering client growth and loyalty that drive sustained success in today’s competitive landscape. \nAbout our speaker \nEric D. Garcia \nWhen it comes to helping veterinary practices streamline their technology and attract and retain clients\, Eric Garcia has a proven track record of educating the industry and producing results. \nEric is an internationally recognized IT and Digital Strategist working exclusively within the field of veterinary medicine. Garcia’s work has been recognized throughout the industry. \nEric was voted VMX 2020 Speaker of the Year by conference attendees. He speaks regularly at conferences all throughout the world.
URL:https://savetcon.co.za/event/webinar-fostering-client-growth-loyalty-strategies-for-effective-marketing/
LOCATION:Livestorm (online)
ORGANIZER;CN="SAVETCON":MAILTO:corne@savetcon.co.za
END:VEVENT
END:VCALENDAR