BEGIN:VCALENDAR
VERSION:2.0
PRODID:-//SAVETCON - ECPv6.14.2//NONSGML v1.0//EN
CALSCALE:GREGORIAN
METHOD:PUBLISH
X-ORIGINAL-URL:https://savetcon.co.za
X-WR-CALDESC:Events for SAVETCON
REFRESH-INTERVAL;VALUE=DURATION:PT1H
X-Robots-Tag:noindex
X-PUBLISHED-TTL:PT1H
BEGIN:VTIMEZONE
TZID:Europe/Helsinki
BEGIN:DAYLIGHT
TZOFFSETFROM:+0200
TZOFFSETTO:+0300
TZNAME:EEST
DTSTART:20240331T010000
END:DAYLIGHT
BEGIN:STANDARD
TZOFFSETFROM:+0300
TZOFFSETTO:+0200
TZNAME:EET
DTSTART:20241027T010000
END:STANDARD
END:VTIMEZONE
BEGIN:VEVENT
DTSTART;TZID=Europe/Helsinki:20240608T130000
DTEND;TZID=Europe/Helsinki:20240609T133000
DTSTAMP:20260421T154438
CREATED:20240109T064228Z
LAST-MODIFIED:20240520T085551Z
UID:10000019-1717851600-1717939800@savetcon.co.za
SUMMARY:Hill's Young Vets CPD Weekend
DESCRIPTION:You’re Invited! \nIf you needed a sign to level up\, this is it! Our Young Vets Weekend is a fantastic opportunity for a bit of a break away\, lots of CPD and networking with other recently qualified colleagues. Join us for a lekker line up of speakers and CPD of around 6 points as well as a relaxed dinner sponsored by Boehringer-Ingelheim. It’s open to vets that have qualified in the last 7 years. \nThis event will also be streamed online for a small fee\, however we do recommend attending in person to get the most out of this opportunity. \nSPEAKERS: \n\nDr Geoff Brown\nDr Karien Brink\nDr Vanessa McClure\nDr Megan Brown
URL:https://savetcon.co.za/event/hills-young-vets-cpd-weekend/
LOCATION:Glenburn Lodge\, Kromdraai Road\, Zwartkops\, Muldersdrift\, South Africa
ORGANIZER;CN="SAVETCON":MAILTO:corne@savetcon.co.za
END:VEVENT
END:VCALENDAR